BEGIN:VCALENDAR
VERSION:2.0
PRODID:spatie/icalendar-generator
NAME:PBHS Football Booster  Calendar
X-WR-CALNAME:PBHS Football Booster  Calendar
REFRESH-INTERVAL;VALUE=DURATION:PT30M
X-PUBLISHED-TTL:PT30M
BEGIN:VTIMEZONE
TZID:America/Phoenix
BEGIN:STANDARD
DTSTART:20250731T171500
TZOFFSETFROM:-0700
TZOFFSETTO:-0700
END:STANDARD
END:VTIMEZONE
BEGIN:VTIMEZONE
TZID:UTC
BEGIN:STANDARD
DTSTART:20250729T183735
TZOFFSETFROM:+0000
TZOFFSETTO:+0000
END:STANDARD
END:VTIMEZONE
BEGIN:VEVENT
UID:event-958336@pbhsfootballbooster.boosterhub.com
DTSTAMP:20260425T183735Z
SUMMARY:Spring Football
DESCRIPTION:<p>Spring Football (weekdays) for Current 9-11th graders. </p><
 p>Meeting in H102 at 5:15pm.</p><p>Practice 6-8pm.</p>
LOCATION:PBHS
DTSTART;TZID=America/Phoenix:20260427T171500
DTEND;TZID=America/Phoenix:20260507T200000
END:VEVENT
BEGIN:VEVENT
UID:event-958337@pbhsfootballbooster.boosterhub.com
DTSTAMP:20260425T183735Z
SUMMARY:Lift-A-Thon
DESCRIPTION:<p>Fundraiser for current 9-11th graders after school.</p>
LOCATION:
DTSTART;TZID=America/Phoenix:20260513T120000
DTEND;TZID=America/Phoenix:20260513T160000
END:VEVENT
BEGIN:VEVENT
UID:event-958338@pbhsfootballbooster.boosterhub.com
DTSTAMP:20260425T183735Z
SUMMARY:Incoming Freshmen Mini Camp
DESCRIPTION:
LOCATION:Poston Butte High School
DTSTART;TZID=America/Phoenix:20260518T071500
DTEND;TZID=America/Phoenix:20260519T091500
END:VEVENT
BEGIN:VEVENT
UID:event-958340@pbhsfootballbooster.boosterhub.com
DTSTAMP:20260425T183735Z
SUMMARY:PBHS Graduation
DESCRIPTION:<p><strong>Volunteers needed to run concession. Current 9-11th 
 grade football players will be assisting to earn service hours. </strong><
 /p>
LOCATION:Poston Butte High School
DTSTART;TZID=America/Phoenix:20260521T180000
DTEND;TZID=America/Phoenix:20260521T220000
END:VEVENT
BEGIN:VEVENT
UID:event-958342@pbhsfootballbooster.boosterhub.com
DTSTAMP:20260425T183735Z
SUMMARY:Passing League / Big Man Challenge
DESCRIPTION:
LOCATION:PBHS
DTSTART;TZID=America/Phoenix:20260602T180000
DTEND;TZID=America/Phoenix:20260602T200000
END:VEVENT
BEGIN:VEVENT
UID:event-958344@pbhsfootballbooster.boosterhub.com
DTSTAMP:20260425T183735Z
SUMMARY:Passing League / Big Man Challenge
DESCRIPTION:
LOCATION:Florence High School
DTSTART;TZID=America/Phoenix:20260609T180000
DTEND;TZID=America/Phoenix:20260609T200000
END:VEVENT
BEGIN:VEVENT
UID:event-958345@pbhsfootballbooster.boosterhub.com
DTSTAMP:20260425T183735Z
SUMMARY:Senior Leadership Camp
DESCRIPTION:<p>More info to come!!</p>
LOCATION:NAU - Flagstaff
X-MICROSOFT-CDO-ALLDAYEVENT:TRUE
DTSTART;TZID=America/Phoenix;VALUE=DATE:20260611
DTEND;TZID=America/Phoenix;VALUE=DATE:20260614
END:VEVENT
BEGIN:VEVENT
UID:event-958350@pbhsfootballbooster.boosterhub.com
DTSTAMP:20260425T183736Z
SUMMARY:Passing League / Big Man Challenge
DESCRIPTION:
LOCATION:Apache Junction High School
DTSTART;TZID=America/Phoenix:20260616T180000
DTEND;TZID=America/Phoenix:20260616T200000
END:VEVENT
BEGIN:VEVENT
UID:event-958352@pbhsfootballbooster.boosterhub.com
DTSTAMP:20260425T183736Z
SUMMARY:Football Camp
DESCRIPTION:<p>Cost is approximately $200 per athlete. Incoming Freshmen ar
 e invited! More info to come!!</p>
LOCATION:Bradshaw Mountain
X-MICROSOFT-CDO-ALLDAYEVENT:TRUE
DTSTART;TZID=America/Phoenix;VALUE=DATE:20260706
DTEND;TZID=America/Phoenix;VALUE=DATE:20260710
END:VEVENT
END:VCALENDAR